BEGIN:VCALENDAR
PRODID:-//AT Content Types//AT Event//EN
VERSION:2.0
METHOD:PUBLISH
BEGIN:VEVENT
DTSTAMP:20260420T103008Z
CREATED:20200305T121120Z
UID:ATEvent-ae9423ca64cb47b7945f4a01bedcff4f
LAST-MODIFIED:20210715T131925Z
SUMMARY:3. Internationales Walser Golfturnier
DTSTART:20211009T220000Z
DTEND:20211009T220000Z
DESCRIPTION:in Brand
LOCATION:Brand
URL:https://www.gcbrand.at/
CLASS:PUBLIC
END:VEVENT
END:VCALENDAR
